BEGIN:VCALENDAR
VERSION:2.0
PRODID:-//ChamberMaster//Event Calendar 2.0//EN
METHOD:PUBLISH
X-PUBLISHED-TTL:P3D
REFRESH-INTERVAL:P3D
CALSCALE:GREGORIAN
BEGIN:VEVENT
DTSTART:20170615T133000Z
DTEND:20170615T163000Z
X-MICROSOFT-CDO-ALLDAYEVENT:FALSE
SUMMARY:Annual Board Retreat
DESCRIPTION:We will be having our Annual Board retreat for our upcoming Board of Directors & Committee Chairs from 8:30 a.m. - 11:30am.\n\nBreakfast will be served.
X-ALT-DESC;FMTTYPE=text/html:We will be having our Annual Board retreat for our upcoming Board of Directors &amp\; Committee Chairs from 8:30 a.m. - 11:30am.<br />\nBreakfast will be served.
LOCATION:Crestview Chamber of Commerce 1447 Commerce Drive
UID:e.1264.10843
SEQUENCE:3
DTSTAMP:20260425T112014Z
URL:https://business.crestviewchamber.com/events/details/annual-board-retreat-10843
END:VEVENT

END:VCALENDAR
