BEGIN:VCALENDAR
VERSION:2.0
PRODID:-//ChamberMaster//Event Calendar 2.0//EN
METHOD:PUBLISH
X-PUBLISHED-TTL:P3D
REFRESH-INTERVAL:P3D
CALSCALE:GREGORIAN
BEGIN:VEVENT
DTSTART:20170620T163000Z
DTEND:20170620T173000Z
X-MICROSOFT-CDO-ALLDAYEVENT:FALSE
SUMMARY:Ambassador Committee "LET'S DO LUNCH"
DESCRIPTION:Take advantage of this opportunity to network\, have lunch in a very informal\, no pressure\, get to know someone new from the Chamber  . lunch!\n\nJust one more way to get social\, network your business\, and build lasting business relationships.\n\n \n\nInvite a new member\, a friend\, Board member\, or someone who is thinking about joining the Chamber to have lunch with you!\n\n\n\nPlease RSVP to Richard at ambassadors@crestviewchamber.com
X-ALT-DESC;FMTTYPE=text/html:Take advantage of this opportunity to network\, have lunch in a very informal\, no pressure\, get to know someone new from the Chamber&hellip\;&hellip\;. lunch!<br />\nJust one more way to get social\, network your business\, and build lasting business relationships.<br />\n&nbsp\;<br />\nInvite a new member\, a friend\, Board member\, or someone who is thinking about joining the Chamber to have lunch with you!<br />\n<br />\nPlease RSVP to Richard at <a href="mailto:ambassadors@crestviewchamber.com">ambassadors@crestviewchamber.com</a>
LOCATION:Panera Bread
UID:e.1264.10841
SEQUENCE:3
DTSTAMP:20260425T113658Z
URL:https://business.crestviewchamber.com/events/details/ambassador-committee-let-s-do-lunch-10841
END:VEVENT

END:VCALENDAR
