BEGIN:VCALENDAR
VERSION:2.0
PRODID:-//ChamberMaster//Event Calendar 2.0//EN
METHOD:PUBLISH
X-PUBLISHED-TTL:P3D
REFRESH-INTERVAL:P3D
CALSCALE:GREGORIAN
BEGIN:VEVENT
DTSTART:20170307T163000Z
DTEND:20170307T173000Z
X-MICROSOFT-CDO-ALLDAYEVENT:FALSE
SUMMARY:Active Shooter-Anytime\, Anyplace: Do You Know What to Do?
DESCRIPTION:Ashley Bailey\, Crime Prevention Specialist with the Okaloosa County Sheriff's Office\, will discuss "Active Shooter-Anytime\, Anyplace: Do You Know What to Do?" for the 10:30 a.m.\, Tuesday\, March 7th First Tuesday Talk at the Crestview Public Library.
X-ALT-DESC;FMTTYPE=text/html:Ashley Bailey\, Crime Prevention Specialist with the&nbsp\;Okaloosa County Sheriff&#39\;s Office\, will discuss &quot\;Active Shooter-Anytime\, Anyplace: Do You Know What to Do?&quot\; for the 10:30 a.m.\, Tuesday\, March 7th First Tuesday Talk at the Crestview Public Library.
LOCATION:Crestview Public Library 1445 Commerce Dr. Crestview\, FL 32539 (behind the Post Office in north Crestview)
UID:e.1264.10726
SEQUENCE:3
DTSTAMP:20260425T173735Z
URL:https://business.crestviewchamber.com/events/details/active-shooter-anytime-anyplace-do-you-know-what-to-do-10726
END:VEVENT

END:VCALENDAR
