BEGIN:VCALENDAR
VERSION:2.0
PRODID:-//ChamberMaster//Event Calendar 2.0//EN
METHOD:PUBLISH
X-PUBLISHED-TTL:P3D
REFRESH-INTERVAL:P3D
CALSCALE:GREGORIAN
BEGIN:VEVENT
DTSTART:20170722T130000Z
DTEND:20170722T220000Z
X-MICROSOFT-CDO-ALLDAYEVENT:FALSE
SUMMARY:4TH ANNUAL FUDPOKER RUN JET SKI CLASSIC
DESCRIPTION:It's that time of year again! We are preparing to bring you The 4th Annual Fudpoker Run   Jet Ski Classic on July 22\, 2017. This is the only Poker Run in the area that caters to the watercraft demographics. All of the proceeds will benefit both: Children in Crisis and OCSO Star Charity. Please join us for the 4th Annual Fudpoker Run. This is a family-friendly event and is 70-miles around the best bay venues. There will be a prize for the best top-three hands. Best hand will win a 2017 Yamaha EX Jet Ski\, donated by KM Cycle and Marine.
X-ALT-DESC;FMTTYPE=text/html:It&rsquo\;s that time of year again! We are preparing to bring you The 4th Annual Fudpoker Run &ndash\; Jet Ski Classic on July 22\, 2017. This is the only Poker Run in the area that caters to the watercraft demographics. All of the proceeds will benefit both: Children in Crisis and OCSO Star Charity. Please join us for the 4th Annual Fudpoker Run. This is a family-friendly event and is 70-miles around the best bay venues. There will be a prize for the best top-three hands. Best hand will win a 2017 Yamaha EX Jet Ski\, donated by KM Cycle and Marine.
LOCATION:Fudpucker's on the Island 1318 Miracle Strip Parkway Fort Walton Beach\, FL 32548
UID:e.1264.10854
SEQUENCE:3
DTSTAMP:20260425T113009Z
URL:https://business.crestviewchamber.com/events/details/4th-annual-fudpoker-run-jet-ski-classic-10854
END:VEVENT

END:VCALENDAR
