BEGIN:VCALENDAR
VERSION:2.0
PRODID:-//ChamberMaster//Event Calendar 2.0//EN
METHOD:PUBLISH
X-PUBLISHED-TTL:P3D
REFRESH-INTERVAL:P3D
CALSCALE:GREGORIAN
BEGIN:VEVENT
DTSTART:20170506T130000Z
DTEND:20170506T190000Z
X-MICROSOFT-CDO-ALLDAYEVENT:FALSE
SUMMARY:2nd Annual Kiwanis Charity Skeet Shoot Tournament
DESCRIPTION:KIWANIS CHARITY EVENT 2ND ANNUAL SPORTING CLAY SHOOT\n\n\n\nShoal River Sporting Clays\n\n3985 Hwy 90 East Crestview\, Fl 32539\n\nSaturday\, May 6th 2017\n\n\n\nSponsorship of the Kiwanis Charity Clay Shoot will help support the project to revitalize the John B. McMahon Environmental Center located here in Crestview. Phase I includes installing restrooms\, playground equipment\, fencing\, and parking.\n\n\n\n8:00 am: Registration/ Light Breakfast /Warm-ups\n\nPractice shots are available at $5.00 per 10 shots\n\n9:00 am: Welcome/ Safety Briefing\n\n9:30 am: Shotgun Start\n\nNoon: Lunch/ Award Ceremony\n\nRegistration fee: $400 per team / $100 per individual\n\n**Fee includes: 100 clays\, Shells (12 ga or 20 ga)\, light breakfast\, lunch\, goodie bags and awards to top shooter and each member of high-scoring team.\n\n\n\nPlan to bring your own shotgun\, eye and ear protection as well as transportation around the range (golf cart / 4-wheeler).\n\n\n\nTransportation will be provided but must be reserved in advance. Cost is $75.00\n\n\n\nDownload registration form
X-ALT-DESC;FMTTYPE=text/html:KIWANIS CHARITY EVENT 2ND ANNUAL SPORTING CLAY SHOOT<br />\n<br />\nShoal River Sporting Clays<br />\n3985 Hwy 90 East Crestview\, Fl 32539<br />\nSaturday\, May 6th 2017<br />\n<br />\nSponsorship of the Kiwanis Charity Clay Shoot will help support the project to revitalize the John B. McMahon Environmental Center located here in Crestview. Phase I includes installing restrooms\, playground equipment\, fencing\, and parking.<br />\n<br />\n8:00 am: Registration/ Light Breakfast /Warm-ups<br />\nPractice shots are available at $5.00 per 10 shots<br />\n9:00 am: Welcome/ Safety Briefing<br />\n9:30 am: Shotgun Start<br />\nNoon: Lunch/ Award Ceremony<br />\nRegistration fee: $400 per team / $100 per individual<br />\n**Fee includes: 100 clays\, Shells (12 ga or 20 ga)\, light breakfast\, lunch\, goodie bags and awards to top shooter and each member of high-scoring team.<br />\n<br />\nPlan to bring your own shotgun\, eye and ear protection as well as transportation around the range (golf cart / 4-wheeler).<br />\n<br />\nTransportation will be provided but must be reserved in advance. Cost is $75.00<br />\n<br />\n<a href="https://chambermaster.blob.core.windows.net/userfiles/UserFiles/chambers/1264/File/2ndAnnualskeetRegistrationform.pdf">Download registration form</a>
LOCATION:Shoal River Sporting Clays 3985 Hwy 90 East Crestview\, Fl 32539
UID:e.1264.10532
SEQUENCE:3
DTSTAMP:20260425T124520Z
URL:https://business.crestviewchamber.com/events/details/2nd-annual-kiwanis-charity-skeet-shoot-tournament-10532
END:VEVENT

END:VCALENDAR
